BEGIN:VCALENDAR
VERSION:2.0
PRODID:-//Dubuque County Fairgrounds - ECPv6.15.20//NONSGML v1.0//EN
CALSCALE:GREGORIAN
METHOD:PUBLISH
X-WR-CALNAME:Dubuque County Fairgrounds
X-ORIGINAL-URL:https://dbqfair.com
X-WR-CALDESC:Events for Dubuque County Fairgrounds
REFRESH-INTERVAL;VALUE=DURATION:PT1H
X-Robots-Tag:noindex
X-PUBLISHED-TTL:PT1H
BEGIN:VTIMEZONE
TZID:America/Chicago
BEGIN:DAYLIGHT
TZOFFSETFROM:-0600
TZOFFSETTO:-0500
TZNAME:CDT
DTSTART:20240310T080000
END:DAYLIGHT
BEGIN:STANDARD
TZOFFSETFROM:-0500
TZOFFSETTO:-0600
TZNAME:CST
DTSTART:20241103T070000
END:STANDARD
BEGIN:DAYLIGHT
TZOFFSETFROM:-0600
TZOFFSETTO:-0500
TZNAME:CDT
DTSTART:20250309T080000
END:DAYLIGHT
BEGIN:STANDARD
TZOFFSETFROM:-0500
TZOFFSETTO:-0600
TZNAME:CST
DTSTART:20251102T070000
END:STANDARD
BEGIN:DAYLIGHT
TZOFFSETFROM:-0600
TZOFFSETTO:-0500
TZNAME:CDT
DTSTART:20260308T080000
END:DAYLIGHT
BEGIN:STANDARD
TZOFFSETFROM:-0500
TZOFFSETTO:-0600
TZNAME:CST
DTSTART:20261101T070000
END:STANDARD
END:VTIMEZONE
BEGIN:VEVENT
DTSTART;VALUE=DATE:20250919
DTEND;VALUE=DATE:20250922
DTSTAMP:20260423T152818
CREATED:20250701T141119Z
LAST-MODIFIED:20250701T141119Z
UID:10000240-1758240000-1758499199@dbqfair.com
SUMMARY:HS Rodeo
DESCRIPTION:
URL:https://dbqfair.com/event/hs-rodeo/
LOCATION:Dubuque County Fairgrounds\, 14569 Old Highway Road\, Dubuque\, IA\, 52002\, United States
END:VEVENT
BEGIN:VEVENT
DTSTART;TZID=America/Chicago:20250921T100000
DTEND;TZID=America/Chicago:20250921T150000
DTSTAMP:20260423T152818
CREATED:20250303T214827Z
LAST-MODIFIED:20250920T140642Z
UID:10000122-1758448800-1758466800@dbqfair.com
SUMMARY:Old 20 Fall Edition- Market!
DESCRIPTION:Jodi & KT Invite You to the 𝐎𝐋𝐃 𝟚𝟘 𝐌𝐀𝐑𝐊𝐄𝐓 – 𝐹𝒶𝓁𝓁 𝐸𝒹𝒾𝓉𝒾𝑜𝓃 \n#SHOP tri-state area MAKERS – ARTSIANS – CRAFTERS – UPCYCLERS – BAKERS – ANTIQUERS – the 🍂𝐎𝐋𝐃 𝟚𝟘 𝐌𝐀𝐑𝐊𝐄𝐓🍂 on September 21 at the Dubuque Co. Fairgrounds from 10am-3pm! \n$3 Admission gets you in! \n𝘛𝘩𝘪𝘴 𝘦𝘷𝘦𝘯𝘵 𝘸𝘢𝘴 𝘧𝘰𝘳𝘮𝘢𝘭𝘭𝘺 𝘬𝘯𝘰𝘸𝘯 𝘢𝘴 𝘵𝘩𝘦 𝘊𝘳𝘢𝘧𝘵𝘺 𝘊𝘳𝘢𝘸𝘭. \nThose interested in being a vendor should join the Old 20 Market – Fall Edition – Vendor Planning Group: https://www.facebook.com/groups/3391023290966725 \n💡𝗠𝗔𝗞𝗘 𝗔 𝗪𝗘𝗘𝗞𝗘𝗡𝗗 𝗢𝗨𝗧 𝗢𝗙 𝗜𝗧💡\n𝘋𝘶𝘣𝘶𝘲𝘶𝘦 𝘪𝘴 𝘭𝘰𝘤𝘢𝘵𝘦𝘥 𝘢𝘭𝘰𝘯𝘨 𝘵𝘩𝘦 𝘔𝘪𝘴𝘴𝘪𝘴𝘴𝘪𝘱𝘱𝘪 𝘙𝘪𝘷𝘦𝘳 𝘸𝘩𝘦𝘳𝘦 𝘐𝘰𝘸𝘢\, 𝘞𝘪𝘴𝘤𝘰𝘯𝘴𝘪𝘯 𝘢𝘯𝘥 𝘐𝘭𝘭𝘪𝘯𝘰𝘪𝘴 𝘮𝘦𝘦𝘵! 𝘐𝘵𝘴 𝘰𝘯𝘦 𝘰𝘧 𝘵𝘩𝘦 𝘣𝘪𝘨𝘨𝘦𝘴𝘵\, 𝘭𝘪𝘵𝘵𝘭𝘦 𝘤𝘪𝘵𝘪𝘦𝘴 𝘪𝘯 𝘐𝘰𝘸𝘢 𝘸𝘪𝘵𝘩 𝘴𝘰𝘮𝘦 𝘢𝘮𝘢𝘻𝘪𝘯𝘨 𝘩𝘪𝘴𝘵𝘰𝘳𝘺 𝘢𝘯𝘥 𝘧𝘶𝘯 𝘵𝘩𝘪𝘯𝘨𝘴 𝘵𝘰 𝘥𝘰 𝘢𝘯𝘥 𝘥𝘪𝘴𝘤𝘰𝘷𝘦𝘳! \n🏨𝗪𝗛𝗘𝗥𝗘 𝗧𝗢 𝗦𝗧𝗔𝗬 𝗰𝗹𝗼𝘀𝗲 𝘁𝗼 𝘁𝗵𝗲 𝗗𝘂𝗯𝘂𝗾𝘂𝗲 𝗖𝗼. 𝗙𝗮𝗶𝗿𝗴𝗿𝗼𝘂𝗻𝗱𝘀:\n• Hampton Inn & Suites\n• Dubuque Inn & Suites\n• Best Western\n• Julien Hotel (6mi)\n• Holiday Inn (6mi)\n• Grand Harbor Resort (6mi)\n• Town Place Suites by Marriott (7mi)\n• Hilton Garden Inn (8mi)\n• There are also a lot of cute Bed & Breakfasts and a couple hotels in the Galena\, IL that is just about 20 miles east on Hwy 20 and they also have a cute shopping main street area with fantastic food too! \n🏇𝗪𝗛𝗘𝗥𝗘 𝗧𝗢 𝗩𝗜𝗦𝗜𝗧 & 𝗧𝗛𝗜𝗡𝗚𝗦 𝘁𝗼 𝗱𝗼 𝗯𝗲𝗳𝗼𝗿𝗲 𝘁𝗵𝗲 𝗢𝗹𝗱 𝟮𝟬 𝗠𝗮𝗿𝗸𝗲𝘁:\n• Casino’s (Diamond Jo & Q Casino)\n• National Mississippi River Museum\n• Stone Cliff Winery\n• Island Social at Q Casino\n• Bowling at Cherry Lanes\n• Round Two Arcade & Bowling\n• Spas at Potosa or Body & Soul\n• Shop Bluff Street\, Main Street & the Millwork District\n• Vertical Jump\n• Fighting Saints Hockey (pre-season)\n• Backpocket Beercade\n• Farmer’s Market (Saturday) \n🍺𝗪𝗛𝗘𝗥𝗘 𝗧𝗢 𝗘𝗔𝗧 & 𝗗𝗥𝗜𝗡𝗞\n• Dubuque Mining Company\n• Mario’s Italian Restaurant\n• Brazen Open Kitchen\n• Copper Kettle\n• Rhody’s Food & Spirits\n• Adobo’s Mexican Grill\n• Ichiban Japanese Steakhouse\n• 1st & Main\n• Vinny Venuchi’s Italian Restaurant\n• Supper Clubs: Moracco\, Timmermans\, Country Heights\n• 7Hills Brewery\n• Dimensional Brewing Company\n• Jubeck New World Brewing\n• Backpocket Brewery\n• Textile Brewery\n• Potosi Brewery\n• River Ridge Brewing\n• The Galena Brewing Company
URL:https://dbqfair.com/event/crafty-crawl-vendor-show/
LOCATION:Dubuque County Fairgrounds\, 14569 Old Highway Road\, Dubuque\, IA\, 52002\, United States
END:VEVENT
END:VCALENDAR