BEGIN:VCALENDAR
VERSION:2.0
PRODID:-//Dubuque County Fairgrounds - ECPv6.15.20//NONSGML v1.0//EN
CALSCALE:GREGORIAN
METHOD:PUBLISH
X-ORIGINAL-URL:https://dbqfair.com
X-WR-CALDESC:Events for Dubuque County Fairgrounds
REFRESH-INTERVAL;VALUE=DURATION:PT1H
X-Robots-Tag:noindex
X-PUBLISHED-TTL:PT1H
BEGIN:VTIMEZONE
TZID:America/Chicago
BEGIN:DAYLIGHT
TZOFFSETFROM:-0600
TZOFFSETTO:-0500
TZNAME:CDT
DTSTART:20240310T080000
END:DAYLIGHT
BEGIN:STANDARD
TZOFFSETFROM:-0500
TZOFFSETTO:-0600
TZNAME:CST
DTSTART:20241103T070000
END:STANDARD
BEGIN:DAYLIGHT
TZOFFSETFROM:-0600
TZOFFSETTO:-0500
TZNAME:CDT
DTSTART:20250309T080000
END:DAYLIGHT
BEGIN:STANDARD
TZOFFSETFROM:-0500
TZOFFSETTO:-0600
TZNAME:CST
DTSTART:20251102T070000
END:STANDARD
BEGIN:DAYLIGHT
TZOFFSETFROM:-0600
TZOFFSETTO:-0500
TZNAME:CDT
DTSTART:20260308T080000
END:DAYLIGHT
BEGIN:STANDARD
TZOFFSETFROM:-0500
TZOFFSETTO:-0600
TZNAME:CST
DTSTART:20261101T070000
END:STANDARD
END:VTIMEZONE
BEGIN:VEVENT
DTSTART;VALUE=DATE:20250321
DTEND;VALUE=DATE:20250324
DTSTAMP:20260421T104632
CREATED:20250223T224453Z
LAST-MODIFIED:20250314T181521Z
UID:10000103-1742515200-1742774399@dbqfair.com
SUMMARY:Gun Show - Trade Show Productions
DESCRIPTION:Admission:\nDes Moines & Cedar Rapids \n– Adults $10.00 / Under 12 $1.00 \nMaquoketa \n– Adults $8.00 / Under 12 $1.00 \nDubuque \n– Adults $8.00 / Under 12 $1.00 \nCoupons:\nDubuque Co. Fairgrounds \nHours:\nFriday: 5pm – 9pm \nSaturday: 9am – 5pm \nSunday: 9am – 3pm \n 
URL:https://dbqfair.com/event/gun-show-trade-show-productions/
LOCATION:Dubuque County Fairgrounds\, 14569 Old Highway Road\, Dubuque\, IA\, 52002\, United States
CATEGORIES:External Events
END:VEVENT
END:VCALENDAR