BEGIN:VCALENDAR
VERSION:2.0
PRODID:-//Dubuque County Fairgrounds - ECPv6.15.20//NONSGML v1.0//EN
CALSCALE:GREGORIAN
METHOD:PUBLISH
X-WR-CALNAME:Dubuque County Fairgrounds
X-ORIGINAL-URL:https://dbqfair.com
X-WR-CALDESC:Events for Dubuque County Fairgrounds
REFRESH-INTERVAL;VALUE=DURATION:PT1H
X-Robots-Tag:noindex
X-PUBLISHED-TTL:PT1H
BEGIN:VTIMEZONE
TZID:America/Chicago
BEGIN:DAYLIGHT
TZOFFSETFROM:-0600
TZOFFSETTO:-0500
TZNAME:CDT
DTSTART:20250309T080000
END:DAYLIGHT
BEGIN:STANDARD
TZOFFSETFROM:-0500
TZOFFSETTO:-0600
TZNAME:CST
DTSTART:20251102T070000
END:STANDARD
BEGIN:DAYLIGHT
TZOFFSETFROM:-0600
TZOFFSETTO:-0500
TZNAME:CDT
DTSTART:20260308T080000
END:DAYLIGHT
BEGIN:STANDARD
TZOFFSETFROM:-0500
TZOFFSETTO:-0600
TZNAME:CST
DTSTART:20261101T070000
END:STANDARD
BEGIN:DAYLIGHT
TZOFFSETFROM:-0600
TZOFFSETTO:-0500
TZNAME:CDT
DTSTART:20270314T080000
END:DAYLIGHT
BEGIN:STANDARD
TZOFFSETFROM:-0500
TZOFFSETTO:-0600
TZNAME:CST
DTSTART:20271107T070000
END:STANDARD
END:VTIMEZONE
BEGIN:VEVENT
DTSTART;TZID=America/Chicago:20261202T190000
DTEND;TZID=America/Chicago:20261202T230000
DTSTAMP:20260421T090016
CREATED:20250701T144728Z
LAST-MODIFIED:20250701T155737Z
UID:10000573-1796238000-1796252400@dbqfair.com
SUMMARY:Wild West Wednesday
DESCRIPTION:
URL:https://dbqfair.com/event/wild-west-wednesday-2/2026-12-02/
LOCATION:Dubuque County Fairgrounds\, 14569 Old Highway Road\, Dubuque\, IA\, 52002\, United States
CATEGORIES:Wild West Wednesday
END:VEVENT
BEGIN:VEVENT
DTSTART;VALUE=DATE:20261205
DTEND;VALUE=DATE:20261206
DTSTAMP:20260421T090016
CREATED:20260109T171946Z
LAST-MODIFIED:20260109T172402Z
UID:10001044-1796428800-1796515199@dbqfair.com
SUMMARY:Private Event
DESCRIPTION:Grand Ballroom
URL:https://dbqfair.com/event/private-event-45/
LOCATION:Dubuque County Fairgrounds\, 14569 Old Highway Road\, Dubuque\, IA\, 52002\, United States
END:VEVENT
BEGIN:VEVENT
DTSTART;TZID=America/Chicago:20261209T190000
DTEND;TZID=America/Chicago:20261209T230000
DTSTAMP:20260421T090016
CREATED:20250701T144728Z
LAST-MODIFIED:20250701T155737Z
UID:10000574-1796842800-1796857200@dbqfair.com
SUMMARY:Wild West Wednesday
DESCRIPTION:
URL:https://dbqfair.com/event/wild-west-wednesday-2/2026-12-09/
LOCATION:Dubuque County Fairgrounds\, 14569 Old Highway Road\, Dubuque\, IA\, 52002\, United States
CATEGORIES:Wild West Wednesday
END:VEVENT
BEGIN:VEVENT
DTSTART;VALUE=DATE:20261211
DTEND;VALUE=DATE:20261213
DTSTAMP:20260421T090016
CREATED:20260109T172508Z
LAST-MODIFIED:20260109T172508Z
UID:10001045-1796947200-1797119999@dbqfair.com
SUMMARY:Private Event
DESCRIPTION:Grand Ballroom
URL:https://dbqfair.com/event/private-event-46/
LOCATION:Dubuque County Fairgrounds\, 14569 Old Highway Road\, Dubuque\, IA\, 52002\, United States
END:VEVENT
BEGIN:VEVENT
DTSTART;TZID=America/Chicago:20261216T190000
DTEND;TZID=America/Chicago:20261216T230000
DTSTAMP:20260421T090016
CREATED:20250701T144728Z
LAST-MODIFIED:20250701T155737Z
UID:10000575-1797447600-1797462000@dbqfair.com
SUMMARY:Wild West Wednesday
DESCRIPTION:
URL:https://dbqfair.com/event/wild-west-wednesday-2/2026-12-16/
LOCATION:Dubuque County Fairgrounds\, 14569 Old Highway Road\, Dubuque\, IA\, 52002\, United States
CATEGORIES:Wild West Wednesday
END:VEVENT
BEGIN:VEVENT
DTSTART;TZID=America/Chicago:20261223T190000
DTEND;TZID=America/Chicago:20261223T230000
DTSTAMP:20260421T090016
CREATED:20250701T144728Z
LAST-MODIFIED:20250701T155737Z
UID:10000576-1798052400-1798066800@dbqfair.com
SUMMARY:Wild West Wednesday
DESCRIPTION:
URL:https://dbqfair.com/event/wild-west-wednesday-2/2026-12-23/
LOCATION:Dubuque County Fairgrounds\, 14569 Old Highway Road\, Dubuque\, IA\, 52002\, United States
CATEGORIES:Wild West Wednesday
END:VEVENT
BEGIN:VEVENT
DTSTART;VALUE=DATE:20261224
DTEND;VALUE=DATE:20261225
DTSTAMP:20260421T090016
CREATED:20250627T205055Z
LAST-MODIFIED:20250627T205055Z
UID:10000229-1798070400-1798156799@dbqfair.com
SUMMARY:Office Closed
DESCRIPTION:
URL:https://dbqfair.com/event/office-closed-10/
LOCATION:Dubuque County Fairgrounds\, 14569 Old Highway Road\, Dubuque\, IA\, 52002\, United States
END:VEVENT
BEGIN:VEVENT
DTSTART;TZID=America/Chicago:20261230T190000
DTEND;TZID=America/Chicago:20261230T230000
DTSTAMP:20260421T090016
CREATED:20250701T144728Z
LAST-MODIFIED:20250701T155737Z
UID:10000577-1798657200-1798671600@dbqfair.com
SUMMARY:Wild West Wednesday
DESCRIPTION:
URL:https://dbqfair.com/event/wild-west-wednesday-2/2026-12-30/
LOCATION:Dubuque County Fairgrounds\, 14569 Old Highway Road\, Dubuque\, IA\, 52002\, United States
CATEGORIES:Wild West Wednesday
END:VEVENT
END:VCALENDAR