BEGIN:VCALENDAR
VERSION:2.0
PRODID:-//Dubuque County Fairgrounds - ECPv6.15.20//NONSGML v1.0//EN
CALSCALE:GREGORIAN
METHOD:PUBLISH
X-ORIGINAL-URL:https://dbqfair.com
X-WR-CALDESC:Events for Dubuque County Fairgrounds
REFRESH-INTERVAL;VALUE=DURATION:PT1H
X-Robots-Tag:noindex
X-PUBLISHED-TTL:PT1H
BEGIN:VTIMEZONE
TZID:America/Chicago
BEGIN:DAYLIGHT
TZOFFSETFROM:-0600
TZOFFSETTO:-0500
TZNAME:CDT
DTSTART:20260308T080000
END:DAYLIGHT
BEGIN:STANDARD
TZOFFSETFROM:-0500
TZOFFSETTO:-0600
TZNAME:CST
DTSTART:20261101T070000
END:STANDARD
BEGIN:DAYLIGHT
TZOFFSETFROM:-0600
TZOFFSETTO:-0500
TZNAME:CDT
DTSTART:20270314T080000
END:DAYLIGHT
BEGIN:STANDARD
TZOFFSETFROM:-0500
TZOFFSETTO:-0600
TZNAME:CST
DTSTART:20271107T070000
END:STANDARD
BEGIN:DAYLIGHT
TZOFFSETFROM:-0600
TZOFFSETTO:-0500
TZNAME:CDT
DTSTART:20280312T080000
END:DAYLIGHT
BEGIN:STANDARD
TZOFFSETFROM:-0500
TZOFFSETTO:-0600
TZNAME:CST
DTSTART:20281105T070000
END:STANDARD
END:VTIMEZONE
BEGIN:VEVENT
DTSTART;TZID=America/Chicago:20270303T190000
DTEND;TZID=America/Chicago:20270303T230000
DTSTAMP:20260421T154836
CREATED:20250701T144728Z
LAST-MODIFIED:20250701T155737Z
UID:10000586-1804100400-1804114800@dbqfair.com
SUMMARY:Wild West Wednesday
DESCRIPTION:
URL:https://dbqfair.com/event/wild-west-wednesday-2/2027-03-03/
LOCATION:Dubuque County Fairgrounds\, 14569 Old Highway Road\, Dubuque\, IA\, 52002\, United States
CATEGORIES:Wild West Wednesday
END:VEVENT
BEGIN:VEVENT
DTSTART;VALUE=DATE:20270306
DTEND;VALUE=DATE:20270307
DTSTAMP:20260421T154836
CREATED:20250701T154255Z
LAST-MODIFIED:20250701T154255Z
UID:10000967-1804291200-1804377599@dbqfair.com
SUMMARY:RMEF
DESCRIPTION:
URL:https://dbqfair.com/event/rmef/
LOCATION:Dubuque County Fairgrounds\, 14569 Old Highway Road\, Dubuque\, IA\, 52002\, United States
END:VEVENT
BEGIN:VEVENT
DTSTART;TZID=America/Chicago:20270310T190000
DTEND;TZID=America/Chicago:20270310T230000
DTSTAMP:20260421T154836
CREATED:20250701T144728Z
LAST-MODIFIED:20250701T155737Z
UID:10000587-1804705200-1804719600@dbqfair.com
SUMMARY:Wild West Wednesday
DESCRIPTION:
URL:https://dbqfair.com/event/wild-west-wednesday-2/2027-03-10/
LOCATION:Dubuque County Fairgrounds\, 14569 Old Highway Road\, Dubuque\, IA\, 52002\, United States
CATEGORIES:Wild West Wednesday
END:VEVENT
BEGIN:VEVENT
DTSTART;VALUE=DATE:20270313
DTEND;VALUE=DATE:20270314
DTSTAMP:20260421T154836
CREATED:20250701T154335Z
LAST-MODIFIED:20250701T154335Z
UID:10000968-1804896000-1804982399@dbqfair.com
SUMMARY:Forever 17
DESCRIPTION:
URL:https://dbqfair.com/event/forever-17-2/
LOCATION:Dubuque County Fairgrounds\, 14569 Old Highway Road\, Dubuque\, IA\, 52002\, United States
CATEGORIES:External Events
END:VEVENT
BEGIN:VEVENT
DTSTART;TZID=America/Chicago:20270317T190000
DTEND;TZID=America/Chicago:20270317T230000
DTSTAMP:20260421T154836
CREATED:20250701T144728Z
LAST-MODIFIED:20250701T155737Z
UID:10000588-1805310000-1805324400@dbqfair.com
SUMMARY:Wild West Wednesday
DESCRIPTION:
URL:https://dbqfair.com/event/wild-west-wednesday-2/2027-03-17/
LOCATION:Dubuque County Fairgrounds\, 14569 Old Highway Road\, Dubuque\, IA\, 52002\, United States
CATEGORIES:Wild West Wednesday
END:VEVENT
BEGIN:VEVENT
DTSTART;VALUE=DATE:20270318
DTEND;VALUE=DATE:20270322
DTSTAMP:20260421T154836
CREATED:20250701T154417Z
LAST-MODIFIED:20250701T154417Z
UID:10000969-1805328000-1805673599@dbqfair.com
SUMMARY:Trade Show Productions Gun Show
DESCRIPTION:
URL:https://dbqfair.com/event/trade-show-productions-gun-show-2/
LOCATION:Dubuque County Fairgrounds\, 14569 Old Highway Road\, Dubuque\, IA\, 52002\, United States
CATEGORIES:External Events
END:VEVENT
BEGIN:VEVENT
DTSTART;TZID=America/Chicago:20270324T190000
DTEND;TZID=America/Chicago:20270324T230000
DTSTAMP:20260421T154836
CREATED:20250701T144728Z
LAST-MODIFIED:20250701T155737Z
UID:10000589-1805914800-1805929200@dbqfair.com
SUMMARY:Wild West Wednesday
DESCRIPTION:
URL:https://dbqfair.com/event/wild-west-wednesday-2/2027-03-24/
LOCATION:Dubuque County Fairgrounds\, 14569 Old Highway Road\, Dubuque\, IA\, 52002\, United States
CATEGORIES:Wild West Wednesday
END:VEVENT
BEGIN:VEVENT
DTSTART;TZID=America/Chicago:20270331T190000
DTEND;TZID=America/Chicago:20270331T230000
DTSTAMP:20260421T154836
CREATED:20250701T144728Z
LAST-MODIFIED:20250701T155737Z
UID:10000590-1806519600-1806534000@dbqfair.com
SUMMARY:Wild West Wednesday
DESCRIPTION:
URL:https://dbqfair.com/event/wild-west-wednesday-2/2027-03-31/
LOCATION:Dubuque County Fairgrounds\, 14569 Old Highway Road\, Dubuque\, IA\, 52002\, United States
CATEGORIES:Wild West Wednesday
END:VEVENT
END:VCALENDAR