BEGIN:VCALENDAR
VERSION:2.0
PRODID:-//Dubuque County Fairgrounds - ECPv6.15.20//NONSGML v1.0//EN
CALSCALE:GREGORIAN
METHOD:PUBLISH
X-WR-CALNAME:Dubuque County Fairgrounds
X-ORIGINAL-URL:https://dbqfair.com
X-WR-CALDESC:Events for Dubuque County Fairgrounds
REFRESH-INTERVAL;VALUE=DURATION:PT1H
X-Robots-Tag:noindex
X-PUBLISHED-TTL:PT1H
BEGIN:VTIMEZONE
TZID:America/Chicago
BEGIN:DAYLIGHT
TZOFFSETFROM:-0600
TZOFFSETTO:-0500
TZNAME:CDT
DTSTART:20270314T080000
END:DAYLIGHT
BEGIN:STANDARD
TZOFFSETFROM:-0500
TZOFFSETTO:-0600
TZNAME:CST
DTSTART:20271107T070000
END:STANDARD
BEGIN:DAYLIGHT
TZOFFSETFROM:-0600
TZOFFSETTO:-0500
TZNAME:CDT
DTSTART:20280312T080000
END:DAYLIGHT
BEGIN:STANDARD
TZOFFSETFROM:-0500
TZOFFSETTO:-0600
TZNAME:CST
DTSTART:20281105T070000
END:STANDARD
BEGIN:DAYLIGHT
TZOFFSETFROM:-0600
TZOFFSETTO:-0500
TZNAME:CDT
DTSTART:20290311T080000
END:DAYLIGHT
BEGIN:STANDARD
TZOFFSETFROM:-0500
TZOFFSETTO:-0600
TZNAME:CST
DTSTART:20291104T070000
END:STANDARD
END:VTIMEZONE
BEGIN:VEVENT
DTSTART;TZID=America/Chicago:20280906T190000
DTEND;TZID=America/Chicago:20280906T230000
DTSTAMP:20260424T111144
CREATED:20250701T144728Z
LAST-MODIFIED:20250701T155737Z
UID:10000665-1851879600-1851894000@dbqfair.com
SUMMARY:Wild West Wednesday
DESCRIPTION:
URL:https://dbqfair.com/event/wild-west-wednesday-2/2028-09-06/
LOCATION:Dubuque County Fairgrounds\, 14569 Old Highway Road\, Dubuque\, IA\, 52002\, United States
CATEGORIES:Wild West Wednesday
END:VEVENT
BEGIN:VEVENT
DTSTART;TZID=America/Chicago:20280913T190000
DTEND;TZID=America/Chicago:20280913T230000
DTSTAMP:20260424T111144
CREATED:20250701T144728Z
LAST-MODIFIED:20250701T155737Z
UID:10000666-1852484400-1852498800@dbqfair.com
SUMMARY:Wild West Wednesday
DESCRIPTION:
URL:https://dbqfair.com/event/wild-west-wednesday-2/2028-09-13/
LOCATION:Dubuque County Fairgrounds\, 14569 Old Highway Road\, Dubuque\, IA\, 52002\, United States
CATEGORIES:Wild West Wednesday
END:VEVENT
BEGIN:VEVENT
DTSTART;TZID=America/Chicago:20280920T190000
DTEND;TZID=America/Chicago:20280920T230000
DTSTAMP:20260424T111144
CREATED:20250701T144728Z
LAST-MODIFIED:20250701T155737Z
UID:10000667-1853089200-1853103600@dbqfair.com
SUMMARY:Wild West Wednesday
DESCRIPTION:
URL:https://dbqfair.com/event/wild-west-wednesday-2/2028-09-20/
LOCATION:Dubuque County Fairgrounds\, 14569 Old Highway Road\, Dubuque\, IA\, 52002\, United States
CATEGORIES:Wild West Wednesday
END:VEVENT
BEGIN:VEVENT
DTSTART;TZID=America/Chicago:20280927T190000
DTEND;TZID=America/Chicago:20280927T230000
DTSTAMP:20260424T111144
CREATED:20250701T144728Z
LAST-MODIFIED:20250701T155737Z
UID:10000668-1853694000-1853708400@dbqfair.com
SUMMARY:Wild West Wednesday
DESCRIPTION:
URL:https://dbqfair.com/event/wild-west-wednesday-2/2028-09-27/
LOCATION:Dubuque County Fairgrounds\, 14569 Old Highway Road\, Dubuque\, IA\, 52002\, United States
CATEGORIES:Wild West Wednesday
END:VEVENT
END:VCALENDAR